BEGIN:VCALENDAR
VERSION:2.0
PRODID:-//91.227.139.79//NONSGML kigkonsult.se iCalcreator 2.20//
CALSCALE:GREGORIAN
METHOD:PUBLISH
X-FROM-URL:http://eucharisticadoration.ie
X-WR-TIMEZONE:Europe/Dublin
BEGIN:VTIMEZONE
TZID:Europe/Dublin
X-LIC-LOCATION:Europe/Dublin
BEGIN:STANDARD
DTSTART:20171029T020000
TZOFFSETFROM:+0100
TZOFFSETTO:+0000
TZNAME:GMT
END:STANDARD
BEGIN:DAYLIGHT
DTSTART:20180325T010000
TZOFFSETFROM:+0000
TZOFFSETTO:+0100
TZNAME:IST
END:DAYLIGHT
END:VTIMEZONE
BEGIN:VEVENT
UID:ai1ec-2868@eucharisticadoration.ie
DTSTAMP:20171107T123956Z
CATEGORIES;LANGUAGE=en-US:Training Event
CONTACT:Brendan Cleary\; 086 1027411\; brendancleary2@gmail.com
DESCRIPTION:Fourth Session for the Renewal of the Kilmore Diocesan Team\, w
 hose function it is to introduce or renew viable weekly adoration in paris
 hes of the Diocese of Kilmore.
DTSTART;TZID=Europe/Dublin:20150321T093000
DTEND;TZID=Europe/Dublin:20150321T122000
GEO:+54.014201;-7.350239
LOCATION:Saint Patrick's College @ Cullies\, Co. Cavan\, Ireland
SEQUENCE:0
SUMMARY:4th Kilmore Diocesan Training Session for Adoration
URL:http://eucharisticadoration.ie/event/2nd-kilmore-diocesan-training-sess
 ion-for-adoration/
X-ALT-DESC;FMTTYPE=text/html:<!DOCTYPE HTML PUBLIC '-//W3C//DTD HTML 3.2//E
 N'>\\n<HTML>\\n<HEAD>\\n<TITLE></TITLE>\\n</HEAD>\\n<BODY><p>Fourth Sessio
 n for the Renewal of the Kilmore Diocesan Team\, whose function it is to i
 ntroduce or renew <em>viable weekly adoration</em> in parishes of the Dioc
 ese of Kilmore.</p>\n</BODY></HTML>
END:VEVENT
BEGIN:VEVENT
UID:ai1ec-2869@eucharisticadoration.ie
DTSTAMP:20171107T123956Z
CATEGORIES;LANGUAGE=en-US:Training Event
CONTACT:
DESCRIPTION:Fourth Session for the Renewal of the Clogher Diocesan Team\, w
 hose function it is to introduce or renew viable weekly adoration in paris
 hes of the Diocese of Clogher. This session is for attendees from S. Doneg
 al\, Fermanagh and parts of Tyrone falling within the diocese.
DTSTART;TZID=Europe/Dublin:20150321T130000
DTEND;TZID=Europe/Dublin:20150321T153000
GEO:+54.349287;-7.62594
LOCATION:St Michael's College @ Chanterhill Road\, Enniskillen\, Fermanagh 
 BT74 6DE\, UK
SEQUENCE:0
SUMMARY:4th Clogher Training Session for Renewal of  Diocesan Team
URL:http://eucharisticadoration.ie/event/second-training-session-for-renewa
 l-of-clogher-diocesan-team/
X-ALT-DESC;FMTTYPE=text/html:<!DOCTYPE HTML PUBLIC '-//W3C//DTD HTML 3.2//E
 N'>\\n<HTML>\\n<HEAD>\\n<TITLE></TITLE>\\n</HEAD>\\n<BODY><p>Fourth Sessio
 n for the Renewal of the Clogher Diocesan Team\, whose function it is to i
 ntroduce or renew <em>viable weekly adoration</em> in parishes of the Dioc
 ese of Clogher. This session is for attendees from S. Donegal\, Fermanagh 
 and parts of Tyrone falling within the diocese.</p>\n</BODY></HTML>
END:VEVENT
BEGIN:VEVENT
UID:ai1ec-3395@eucharisticadoration.ie
DTSTAMP:20171107T123956Z
CATEGORIES;LANGUAGE=en-US:Training Event
CONTACT:Apostolate of Eucharistic Adoration\; 086 1027411\; info@eucharisti
 cadoration.ie\; http://eucharisticadoration.ie
DESCRIPTION:An Adoration Team for Elphin diocese is being developed.\nThis 
 team will introduce\, set up or strengthen weekly adoration in parishes\, 
 at the invitation of the priest(s) of the parish.\nParishes are sending de
 legates to a Preliminary Information Meeting to see what is involved and t
 he training available.\nPeople already involved in adoration are also welc
 ome to attend.\nPlease reserve a place as early as possible.\nin\nAbbey Co
 mmunity College\, Boyle\, Co. Roscommon\nat 11am (finishing with refreshme
 nts at 12.30)\nRegistration from 10am\n 
DTSTART;TZID=Europe/Dublin:20160130T110000
DTEND;TZID=Europe/Dublin:20160130T121500
GEO:+53.972208;-8.297276
LOCATION:Abbey Community College @ Boyle\, Co. Roscommon\, Ireland
SEQUENCE:0
SUMMARY:Elphin Diocese: Information Meeting
URL:http://eucharisticadoration.ie/event/elphin-diocese-information-meeting
 /
X-ALT-DESC;FMTTYPE=text/html:<!DOCTYPE HTML PUBLIC '-//W3C//DTD HTML 3.2//E
 N'>\\n<HTML>\\n<HEAD>\\n<TITLE></TITLE>\\n</HEAD>\\n<BODY><p>An Adoration 
 Team for Elphin diocese is being developed.</p>\n<p>This team will introdu
 ce\, set up or strengthen weekly adoration in parishes\, at the invitation
  of the priest(s) of the parish.</p>\n<p>Parishes are sending delegates to
  a Preliminary Information Meeting to see what is involved and the trainin
 g available.</p>\n<p>People already involved in adoration are also welcome
  to attend.</p>\n<p>Please reserve a place as early as possible.</p>\n<p>i
 n</p>\n<p><strong>Abbey Community College\, </strong>Boyle\, Co. Roscommon
 <strong><br />\n</strong><strong>at <u>11am</u></strong> (finishing with r
 efreshments at 12.30)</p>\n<p>Registration from 10am</p>\n<p> </p>\n</BODY
 ></HTML>
END:VEVENT
BEGIN:VEVENT
UID:ai1ec-3446@eucharisticadoration.ie
DTSTAMP:20171107T123956Z
CATEGORIES;LANGUAGE=en-US:Training Event
CONTACT:Apostolate of Eucharistic Adoration\; 086 1027411\; info@eucharisti
 cadoration.ie\; http://eucharisticadoration.ie
DESCRIPTION:Fourth Training Session for the renewal and expansion of the Wa
 terford & Lismore Diocesan Team\, whose function it is to introduce or ren
 ew viable weekly adoration in parishes of the Diocese.\nMany of the attend
 ees\, though not all\, will have attended the Information Day at Hotel Min
 ella\, Clonmel on 17th September.\nThis session commences at\n09.30       
            Adoration of the Blessed Sacrament\n10.00                  The 
 Mass\n10.30                  Refreshments\n11.00 – 12.50     Sessions
DTSTART;TZID=Europe/Dublin:20161112T093000
DTEND;TZID=Europe/Dublin:20161112T122000
GEO:+52.361581;-7.583456
LOCATION:Glencomeragh House @ Kilsheelan\, Co. Tipperary\, Ireland
SEQUENCE:0
SUMMARY:Training Session Waterford Diocese
URL:http://eucharisticadoration.ie/event/training-session-waterford-diocese
 /
X-COST-TYPE:free
X-ALT-DESC;FMTTYPE=text/html:<!DOCTYPE HTML PUBLIC '-//W3C//DTD HTML 3.2//E
 N'>\\n<HTML>\\n<HEAD>\\n<TITLE></TITLE>\\n</HEAD>\\n<BODY><p>Fourth Traini
 ng Session for the renewal and expansion of the Waterford & Lismore Dioces
 an Team\, whose function it is to introduce or renew <em>viable weekly ado
 ration</em> in parishes of the Diocese.</p>\n<p>Many of the attendees\, th
 ough not all\, will have attended the Information Day at Hotel Minella\, C
 lonmel on 17th September.</p>\n<p>This session commences at</p>\n<p>09.30 
                  Adoration of the Blessed Sacrament</p>\n<p>10.00         
          The Mass</p>\n<p>10.30                  Refreshments</p>\n<p>11.0
 0 – 12.50     Sessions</p>\n</BODY></HTML>
END:VEVENT
BEGIN:VEVENT
UID:ai1ec-3462@eucharisticadoration.ie
DTSTAMP:20171107T123956Z
CATEGORIES;LANGUAGE=en-US:Training Event
CONTACT:
DESCRIPTION:Sixth and final Training Session for the renewal and expansion 
 of the Waterford & Lismore Diocesan Team\, whose function it is to introdu
 ce or renew viable weekly adoration in parishes of the Diocese.\nMany of t
 he attendees\, though not all\, will have attended the Information Day at 
 Hotel Minella\, Clonmel on 17th September.\nThis session commences at\n09.
 30                  Adoration of the Blessed Sacrament\n10.00             
      The Mass\n10.30                  Refreshments\n11.00 – 12.50     Sess
 ions
DTSTART;TZID=Europe/Dublin:20161126T093000
DTEND;TZID=Europe/Dublin:20161126T140000
GEO:+52.361581;-7.583456
LOCATION:Glencomeragh House @ Kilsheelan\, Co. Tipperary\, Ireland
SEQUENCE:0
SUMMARY:Waterford Final Training Session
URL:http://eucharisticadoration.ie/event/waterford-final-training-session/
X-COST-TYPE:free
X-ALT-DESC;FMTTYPE=text/html:<!DOCTYPE HTML PUBLIC '-//W3C//DTD HTML 3.2//E
 N'>\\n<HTML>\\n<HEAD>\\n<TITLE></TITLE>\\n</HEAD>\\n<BODY><p>Sixth and fin
 al Training Session for the renewal and expansion of the Waterford & Lismo
 re Diocesan Team\, whose function it is to introduce or renew <em>viable w
 eekly adoration</em> in parishes of the Diocese.</p>\n<p>Many of the atten
 dees\, though not all\, will have attended the Information Day at Hotel Mi
 nella\, Clonmel on 17th September.</p>\n<p>This session commences at</p>\n
 <p>09.30                  Adoration of the Blessed Sacrament</p>\n<p>10.00
                   The Mass</p>\n<p>10.30                  Refreshments</p>
 \n<p>11.00 – 12.50     Sessions</p>\n</BODY></HTML>
END:VEVENT
END:VCALENDAR
